BEGIN:VCALENDAR
VERSION:2.0
PRODID:-//wp-events-plugin.com//7.2.3.1//EN
TZID:Europe/Berlin
X-WR-TIMEZONE:Europe/Berlin
BEGIN:VEVENT
UID:86@worldskillsgermany.com
DTSTART;TZID=Europe/Berlin;VALUE=DATE:20250128
DTEND;TZID=Europe/Berlin;VALUE=DATE:20250201
DTSTAMP:20250115T134437Z
URL:https://worldskillsgermany.com/termine/cpm-euroskills-herning-2025/
SUMMARY:CPM EuroSkills Herning 2025
DESCRIPTION:Vom 28. - 31. Januar findet das Competition Preparation Meetin
 g der EuroSkills Herning 2025 statt.\n\nDie Europameisterschaft der Berufe
  - die EuroSkills 2025 - finden vom 09. bis 13. September 2025 in Herning\
 , Dänemark\, statt\n\nBis zu 600 talentierte Fachkräfte aus ganz Europa 
 wetteifern in 38 verschiedenen Disziplinen um die EM-Medaillen.\nDeutschla
 nd wird in 30 Disziplinen mit 35 jungen Talenten vertreten sein.\n\nWeiter
 e Informationen zu den EuroSkills Herning 2025 &gt\;&gt\;
ATTACH;FMTTYPE=image/jpeg:https://worldskillsgermany.com/wp-content/upload
 s/2025/01/euroskills2025-logo-WorldSkills_Germany.png
CATEGORIES:Internationaler Wettbewerb
LOCATION:MCH Messecenter Herning\, Vardevej 1\, Herning\, 7400\, Dänemark
X-APPLE-STRUCTURED-LOCATION;VALUE=URI;X-ADDRESS=Vardevej 1\, Herning\, 7400
 \, Dänemark;X-APPLE-RADIUS=100;X-TITLE=MCH Messecenter Herning:geo:0,0
END:VEVENT
BEGIN:VTIMEZONE
TZID:Europe/Berlin
X-LIC-LOCATION:Europe/Berlin
BEGIN:STANDARD
DTSTART:20241027T020000
TZOFFSETFROM:+0200
TZOFFSETTO:+0100
TZNAME:CET
END:STANDARD
END:VTIMEZONE
END:VCALENDAR