BEGIN:VCALENDAR
VERSION:2.0
PRODID:-//wp-events-plugin.com//7.2.3.1//EN
TZID:Europe/Berlin
X-WR-TIMEZONE:Europe/Berlin
BEGIN:VEVENT
UID:142@worldskillsgermany.com
DTSTART;TZID=Europe/Berlin;VALUE=DATE:20260612
DTEND;TZID=Europe/Berlin;VALUE=DATE:20260614
DTSTAMP:20260304T095700Z
URL:https://worldskillsgermany.com/termine/deutsche-meisterschaft-der-pfle
 geberufe-2/
SUMMARY:Deutsche Meisterschaft der Pflegeberufe
DESCRIPTION:Am 12. und 13. Juni 2026 werden die Deutschen Meisterschaften i
 n Gesundheits-und Sozialbetreuung ausgetragen.\n\nDie Besten der Deutsche
 n Meisterschaft werden in die Nationalmannschaft Pflege aufgenommen.\nAnsc
 hließend wird entschieden\, wer Deutschland bei den kommenden internation
 alen Wettbewerben vertritt.\n\nWeitere Informationen &gt\;&gt\;&gt\;
ATTACH;FMTTYPE=image/jpeg:https://worldskillsgermany.com/wp-content/upload
 s/2025/01/53991062890_8cbbd4a561_c.jpg
CATEGORIES:Wettbewerb
LOCATION:Bamberger Akademien für Gesundheits- und Pflegeberufe\, Buger Str
 aße 80\, Bamberg \, Bayern\, 96049\, Deutschland
X-APPLE-STRUCTURED-LOCATION;VALUE=URI;X-ADDRESS=Buger Straße 80\, Bamberg 
 \, Bayern\, 96049\, Deutschland;X-APPLE-RADIUS=100;X-TITLE=Bamberger Akade
 mien für Gesundheits- und Pflegeberufe:geo:0,0
END:VEVENT
BEGIN:VTIMEZONE
TZID:Europe/Berlin
X-LIC-LOCATION:Europe/Berlin
BEGIN:DAYLIGHT
DTSTART:20260329T030000
TZOFFSETFROM:+0100
TZOFFSETTO:+0200
TZNAME:CEST
END:DAYLIGHT
END:VTIMEZONE
END:VCALENDAR