BEGIN:VCALENDAR
VERSION:2.0
PRODID:-//wp-events-plugin.com//7.2.3.1//EN
TZID:Europe/Berlin
X-WR-TIMEZONE:Europe/Berlin
BEGIN:VEVENT
UID:94@worldskillsgermany.com
DTSTART;TZID=Europe/Berlin;VALUE=DATE:20250703
DTEND;TZID=Europe/Berlin;VALUE=DATE:20250705
DTSTAMP:20250701T114233Z
URL:https://worldskillsgermany.com/termine/discover-your-future-in-duessel
 dorf/
SUMMARY:Discover Your Future in Düsseldorf
DESCRIPTION:Junge Menschen inspirieren\, ihnen Orientierung bieten und Zuga
 ng zu Ausbildungswegen aufzeigen sowie ihre Fähigkeiten und nachhaltigen 
 Kompetenzen fördern.\nDas ist das Ziel von „Discover YourFuture“ in K
 ooperation mit 3M und Global Giving. In Düsseldorf wird das Projekt darü
 ber hinaus in Kooperation mit EuroSkills Düsseldorf 2027 realisiert.\n\nF
 utureSkills – Entdecke Industrie 4.0 und komm mit einem Europameister in
 s Gespräch!\nIm Zelt der EuroSkills Düsseldorf 2027 erwartet das Publiku
 m Hightech der Spitzenklasse: Unter dem Motto „FutureSkills – Entdecke
  Industrie 4.0!“ erleben die Besuchenden live an einer CP(Cyber-Physical
 )-Lernstation von Festo Didactic\, wie moderne\, digitalisierte Produktion
  funktioniert. Niklas Meiser\, Goldmedaillengewinner der Europameisterscha
 ft 2023 in der Disziplin Industrie 4.0\, stellt seinen Beruf vor und nimmt
  das Publikum mit auf eine spannende Reise rund um seine Erlebnisse der EM
 -Teilnahme.\n\nAn zwei weiteren Stationen werden verschiedene Workshops an
 geboten\, die den Teilnehmenden spielerisch die Möglichkeit geben\, ihre 
 Fähigkeiten zu erproben.\nDie Workshops\nScience is fun!\nFür SchülerIn
 nen der Klasse 5 und 6\nIm 3M-Zelt lernen die Teilnehmenden anhand kleiner
  Wissenschafts-Experimente spielerisch alles rund um das Thema „Luft und
  Vakuum“. Gemeinsam mit den 3M „Wizards“ gilt es herauszufinden\, wo
 für man komprimierte Luft nutzen kann und was im Vakuum passiert – jede
  Menge Spaß ist garantiert! An einer zweiten Station stellt sich 3M als A
 rbeitgeber vor.\n\nYour Skills\, Your Power - Erzeuge deinen eigenen Strom
 \nWorldSkills Germany lädt dazu ein\, zukunftsorientierte\, grüne Berufe
  zu entdecken. Dazu gibt es für die Teilnehmenden (ab Klassenstufe 7) Inf
 os über nachhaltige Energiegewinnung und „Learning by doing“ mit dem 
 Bau eines Generators und kleinen Experimenten.\n\nSchüler*innen\, Studier
 ende und Auszubildende erwarten spannende Workshops und Informationen zu v
 erschiedenen Schwerpunkten in drei Zelten.\n\nAlle Workshops sind kostenfr
 ei!\n\n03. und 04.07.2025\n\n09:30 - 11:00 Uhr\n11:30 - 13:00 Uhr\n13:30 -
  15:00 Uhr\n15:30 - 17:00 Uhr\n\nEine Anmeldung für die Workshops ist erf
 orderlich für Gruppen ab 10 Personen (siehe unten).\n\nFamilien und Einze
 lpersonen können gern einfach vorbeikommen. \n\nJetzt hier anmelden!\n\n
 Wird geladen…\n\n&nbsp\;
ATTACH;FMTTYPE=image/jpeg:https://worldskillsgermany.com/wp-content/upload
 s/2024/12/DiscoverYourFuture2_Spielemesse2024_WorldSkills_Germany-1.jpg
CATEGORIES:Workshop
LOCATION:Schadowplatz\, Schadowplatz\, Düsseldorf\, 40212\, Deutschland
X-APPLE-STRUCTURED-LOCATION;VALUE=URI;X-ADDRESS=Schadowplatz\, Düsseldorf\
 , 40212\, Deutschland;X-APPLE-RADIUS=100;X-TITLE=Schadowplatz:geo:0,0
END:VEVENT
BEGIN:VTIMEZONE
TZID:Europe/Berlin
X-LIC-LOCATION:Europe/Berlin
BEGIN:DAYLIGHT
DTSTART:20250330T030000
TZOFFSETFROM:+0100
TZOFFSETTO:+0200
TZNAME:CEST
END:DAYLIGHT
END:VTIMEZONE
END:VCALENDAR